BEGIN:VCALENDAR
VERSION:2.0
PRODID:-//Humane Society of Macomb - ECPv6.15.20//NONSGML v1.0//EN
CALSCALE:GREGORIAN
METHOD:PUBLISH
X-ORIGINAL-URL:https://humanesocietyofmacomb.org
X-WR-CALDESC:Events for Humane Society of Macomb
REFRESH-INTERVAL;VALUE=DURATION:PT1H
X-Robots-Tag:noindex
X-PUBLISHED-TTL:PT1H
BEGIN:VTIMEZONE
TZID:America/Detroit
BEGIN:DAYLIGHT
TZOFFSETFROM:-0500
TZOFFSETTO:-0400
TZNAME:EDT
DTSTART:20250309T070000
END:DAYLIGHT
BEGIN:STANDARD
TZOFFSETFROM:-0400
TZOFFSETTO:-0500
TZNAME:EST
DTSTART:20251102T060000
END:STANDARD
BEGIN:DAYLIGHT
TZOFFSETFROM:-0500
TZOFFSETTO:-0400
TZNAME:EDT
DTSTART:20260308T070000
END:DAYLIGHT
BEGIN:STANDARD
TZOFFSETFROM:-0400
TZOFFSETTO:-0500
TZNAME:EST
DTSTART:20261101T060000
END:STANDARD
BEGIN:DAYLIGHT
TZOFFSETFROM:-0500
TZOFFSETTO:-0400
TZNAME:EDT
DTSTART:20270314T070000
END:DAYLIGHT
BEGIN:STANDARD
TZOFFSETFROM:-0400
TZOFFSETTO:-0500
TZNAME:EST
DTSTART:20271107T060000
END:STANDARD
END:VTIMEZONE
BEGIN:VEVENT
DTSTART;TZID=America/Detroit:20260503T080000
DTEND;TZID=America/Detroit:20260503T110000
DTSTAMP:20260421T060509
CREATED:20260207T220823Z
LAST-MODIFIED:20260212T194713Z
UID:25981447-1777795200-1777806000@humanesocietyofmacomb.org
SUMMARY:Ewok and Run w/ Teachers Pet at River Bends Park
DESCRIPTION:
URL:https://humanesocietyofmacomb.org/event/ewok-and-run-w-teachers-pet-at-river-bends-park/
LOCATION:River Bends Park\, 5700 22 Mile Rd\, Shelby Township\, MI\, 48317\, United States
END:VEVENT
BEGIN:VEVENT
DTSTART;TZID=America/Detroit:20260504T100000
DTEND;TZID=America/Detroit:20260504T170000
DTSTAMP:20260421T060509
CREATED:20260207T221459Z
LAST-MODIFIED:20260212T194953Z
UID:25981449-1777888800-1777914000@humanesocietyofmacomb.org
SUMMARY:May the Course Be with You – Golf Scramble at Country Club of Detroit
DESCRIPTION:
URL:https://humanesocietyofmacomb.org/event/may-the-course-be-with-you-golf-scramble-at-country-club-of-detroit/
LOCATION:Country Club of Detroit
END:VEVENT
BEGIN:VEVENT
DTSTART;TZID=America/Detroit:20260515T190500
DTEND;TZID=America/Detroit:20260515T220000
DTSTAMP:20260421T060509
CREATED:20260207T222246Z
LAST-MODIFIED:20260212T195031Z
UID:25981452-1778871900-1778882400@humanesocietyofmacomb.org
SUMMARY:USPBL Opening Day\, Kiosk Night at UWM Field
DESCRIPTION:
URL:https://humanesocietyofmacomb.org/event/uspbl-opening-day-kiosk-night-at-uwm-field/
LOCATION:UWM Field (Formerly – Jimmy John’s Field)\, 7171 Auburn Rd\, Utica\, MI\, 48317\, United States
END:VEVENT
BEGIN:VEVENT
DTSTART;TZID=America/Detroit:20260529T180000
DTEND;TZID=America/Detroit:20260529T230000
DTSTAMP:20260421T060509
CREATED:20260207T222443Z
LAST-MODIFIED:20260304T131550Z
UID:25981454-1780077600-1780095600@humanesocietyofmacomb.org
SUMMARY:Evening at the Races\, Infinity Hall & Sidebar
DESCRIPTION:Put on your finest derby hat\, place your bets\, and raise a glass for the animals. An evening of high-stakes racing\, Triple Crown-themed bites\, and FURlong fun — all for a great cause.
URL:https://humanesocietyofmacomb.org/event/evening-at-the-races-infinity-hall-sidebar/
LOCATION:Infinity Hall and Sidebar\, 16650 E 14 Mile Road\, Fraser\, MI\, 48026\, United States
END:VEVENT
END:VCALENDAR