BEGIN:VCALENDAR
VERSION:2.0
PRODID:-//Humane Society of Macomb - ECPv6.15.20//NONSGML v1.0//EN
CALSCALE:GREGORIAN
METHOD:PUBLISH
X-WR-CALNAME:Humane Society of Macomb
X-ORIGINAL-URL:https://humanesocietyofmacomb.org
X-WR-CALDESC:Events for Humane Society of Macomb
REFRESH-INTERVAL;VALUE=DURATION:PT1H
X-Robots-Tag:noindex
X-PUBLISHED-TTL:PT1H
BEGIN:VTIMEZONE
TZID:America/Detroit
BEGIN:DAYLIGHT
TZOFFSETFROM:-0500
TZOFFSETTO:-0400
TZNAME:EDT
DTSTART:20250309T070000
END:DAYLIGHT
BEGIN:STANDARD
TZOFFSETFROM:-0400
TZOFFSETTO:-0500
TZNAME:EST
DTSTART:20251102T060000
END:STANDARD
BEGIN:DAYLIGHT
TZOFFSETFROM:-0500
TZOFFSETTO:-0400
TZNAME:EDT
DTSTART:20260308T070000
END:DAYLIGHT
BEGIN:STANDARD
TZOFFSETFROM:-0400
TZOFFSETTO:-0500
TZNAME:EST
DTSTART:20261101T060000
END:STANDARD
BEGIN:DAYLIGHT
TZOFFSETFROM:-0500
TZOFFSETTO:-0400
TZNAME:EDT
DTSTART:20270314T070000
END:DAYLIGHT
BEGIN:STANDARD
TZOFFSETFROM:-0400
TZOFFSETTO:-0500
TZNAME:EST
DTSTART:20271107T060000
END:STANDARD
END:VTIMEZONE
BEGIN:VEVENT
DTSTART;TZID=America/Detroit:20260913T140000
DTEND;TZID=America/Detroit:20260913T190000
DTSTAMP:20260420T035458
CREATED:20260207T230934Z
LAST-MODIFIED:20260212T195911Z
UID:25981495-1789308000-1789326000@humanesocietyofmacomb.org
SUMMARY:Home in One Golf at Cracklewood GC
DESCRIPTION:
URL:https://humanesocietyofmacomb.org/event/home-in-one-golf-at-cracklewood-gc/
LOCATION:Cracklewood Golf Course\, 18215 24 Mile Rd\, Macomb Twp\, MI\, 48042\, United States
END:VEVENT
BEGIN:VEVENT
DTSTART;TZID=America/Detroit:20260926T080000
DTEND;TZID=America/Detroit:20260927T170000
DTSTAMP:20260420T035458
CREATED:20260207T231047Z
LAST-MODIFIED:20260207T231047Z
UID:25981497-1790409600-1790528400@humanesocietyofmacomb.org
SUMMARY:Festival of The Senses
DESCRIPTION:
URL:https://humanesocietyofmacomb.org/event/festival-of-the-senses/
LOCATION:Clinton Township Parks & Recreation\, 40700 Romeo Plank Rd\, Clinton Twp\, MI\, 48038\, United States
END:VEVENT
BEGIN:VEVENT
DTSTART;TZID=America/Detroit:20261104T173000
DTEND;TZID=America/Detroit:20261104T223000
DTSTAMP:20260420T035458
CREATED:20260207T231147Z
LAST-MODIFIED:20260212T195952Z
UID:25981499-1793813400-1793831400@humanesocietyofmacomb.org
SUMMARY:Dogstravaganza at Shelby Gardens
DESCRIPTION:
URL:https://humanesocietyofmacomb.org/event/dogstravaganza-at-shelby-gardens/
LOCATION:Shelby Gardens\, 50265 Van Dyke\, Shelby Twp\, MI\, 48317\, United States
END:VEVENT
BEGIN:VEVENT
DTSTART;VALUE=DATE:20261201
DTEND;VALUE=DATE:20261202
DTSTAMP:20260420T035458
CREATED:20260207T231241Z
LAST-MODIFIED:20260212T200009Z
UID:25981501-1796083200-1796169599@humanesocietyofmacomb.org
SUMMARY:Giving Tuesday: Online Only
DESCRIPTION:
URL:https://humanesocietyofmacomb.org/event/giving-tuesday-online-only/
LOCATION:Humane Society of Macomb\, 11350 22 mile road\, Shelby Twp\, MI\, 48317\, United States
END:VEVENT
END:VCALENDAR