BEGIN:VCALENDAR
VERSION:2.0
PRODID:-//Humane Society of Macomb - ECPv6.15.20//NONSGML v1.0//EN
CALSCALE:GREGORIAN
METHOD:PUBLISH
X-ORIGINAL-URL:https://humanesocietyofmacomb.org
X-WR-CALDESC:Events for Humane Society of Macomb
REFRESH-INTERVAL;VALUE=DURATION:PT1H
X-Robots-Tag:noindex
X-PUBLISHED-TTL:PT1H
BEGIN:VTIMEZONE
TZID:America/Detroit
BEGIN:DAYLIGHT
TZOFFSETFROM:-0500
TZOFFSETTO:-0400
TZNAME:EDT
DTSTART:20250309T070000
END:DAYLIGHT
BEGIN:STANDARD
TZOFFSETFROM:-0400
TZOFFSETTO:-0500
TZNAME:EST
DTSTART:20251102T060000
END:STANDARD
BEGIN:DAYLIGHT
TZOFFSETFROM:-0500
TZOFFSETTO:-0400
TZNAME:EDT
DTSTART:20260308T070000
END:DAYLIGHT
BEGIN:STANDARD
TZOFFSETFROM:-0400
TZOFFSETTO:-0500
TZNAME:EST
DTSTART:20261101T060000
END:STANDARD
BEGIN:DAYLIGHT
TZOFFSETFROM:-0500
TZOFFSETTO:-0400
TZNAME:EDT
DTSTART:20270314T070000
END:DAYLIGHT
BEGIN:STANDARD
TZOFFSETFROM:-0400
TZOFFSETTO:-0500
TZNAME:EST
DTSTART:20271107T060000
END:STANDARD
END:VTIMEZONE
BEGIN:VEVENT
DTSTART;TZID=America/Detroit:20260713T090000
DTEND;TZID=America/Detroit:20260716T120000
DTSTAMP:20260420T010134
CREATED:20260207T224035Z
LAST-MODIFIED:20260212T195420Z
UID:25981467-1783933200-1784203200@humanesocietyofmacomb.org
SUMMARY:Kid’s Summer Camp at The Humane Society of Macomb (Ages 5-7)
DESCRIPTION:
URL:https://humanesocietyofmacomb.org/event/kids-summer-camp-at-the-humane-society-of-macomb-week-1/
LOCATION:Humane Society of Macomb\, 11350 22 mile road\, Shelby Twp\, MI\, 48317\, United States
END:VEVENT
END:VCALENDAR