BEGIN:VCALENDAR
VERSION:2.0
PRODID:-//Humane Society of Macomb - ECPv6.15.20//NONSGML v1.0//EN
CALSCALE:GREGORIAN
METHOD:PUBLISH
X-ORIGINAL-URL:https://humanesocietyofmacomb.org
X-WR-CALDESC:Events for Humane Society of Macomb
REFRESH-INTERVAL;VALUE=DURATION:PT1H
X-Robots-Tag:noindex
X-PUBLISHED-TTL:PT1H
BEGIN:VTIMEZONE
TZID:America/Detroit
BEGIN:STANDARD
TZOFFSETFROM:-0500
TZOFFSETTO:-0500
TZNAME:EST
DTSTART:20250101T000000
END:STANDARD
END:VTIMEZONE
BEGIN:VEVENT
DTSTART;TZID=America/Detroit:20260620T110000
DTEND;TZID=America/Detroit:20260419T215931
DTSTAMP:20260419T215931
CREATED:20260207T223228Z
LAST-MODIFIED:20260212T195337Z
UID:25981463-1781953200-0@humanesocietyofmacomb.org
SUMMARY:Offsite Adoption Event at Harrison Twp Public Library
DESCRIPTION:
URL:https://humanesocietyofmacomb.org/event/offsite-adoption-event-at-harrison-twp-public-library/
LOCATION:Harrison Township Public Library\, 38255 Lanse Creuse St Suite A\, Harrison Township\, MI\, 48045\, United States
END:VEVENT
END:VCALENDAR