BEGIN:VCALENDAR
VERSION:2.0
PRODID:-//Humane Society of Macomb - ECPv6.15.20//NONSGML v1.0//EN
CALSCALE:GREGORIAN
METHOD:PUBLISH
X-WR-CALNAME:Humane Society of Macomb
X-ORIGINAL-URL:https://humanesocietyofmacomb.org
X-WR-CALDESC:Events for Humane Society of Macomb
REFRESH-INTERVAL;VALUE=DURATION:PT1H
X-Robots-Tag:noindex
X-PUBLISHED-TTL:PT1H
BEGIN:VTIMEZONE
TZID:America/Detroit
BEGIN:DAYLIGHT
TZOFFSETFROM:-0500
TZOFFSETTO:-0400
TZNAME:EDT
DTSTART:20250309T070000
END:DAYLIGHT
BEGIN:STANDARD
TZOFFSETFROM:-0400
TZOFFSETTO:-0500
TZNAME:EST
DTSTART:20251102T060000
END:STANDARD
BEGIN:DAYLIGHT
TZOFFSETFROM:-0500
TZOFFSETTO:-0400
TZNAME:EDT
DTSTART:20260308T070000
END:DAYLIGHT
BEGIN:STANDARD
TZOFFSETFROM:-0400
TZOFFSETTO:-0500
TZNAME:EST
DTSTART:20261101T060000
END:STANDARD
BEGIN:DAYLIGHT
TZOFFSETFROM:-0500
TZOFFSETTO:-0400
TZNAME:EDT
DTSTART:20270314T070000
END:DAYLIGHT
BEGIN:STANDARD
TZOFFSETFROM:-0400
TZOFFSETTO:-0500
TZNAME:EST
DTSTART:20271107T060000
END:STANDARD
END:VTIMEZONE
BEGIN:VEVENT
DTSTART;TZID=America/Detroit:20260504T100000
DTEND;TZID=America/Detroit:20260504T170000
DTSTAMP:20260419T093046
CREATED:20260207T221459Z
LAST-MODIFIED:20260212T194953Z
UID:25981449-1777888800-1777914000@humanesocietyofmacomb.org
SUMMARY:May the Course Be with You – Golf Scramble at Country Club of Detroit
DESCRIPTION:
URL:https://humanesocietyofmacomb.org/event/may-the-course-be-with-you-golf-scramble-at-country-club-of-detroit/
LOCATION:Country Club of Detroit
END:VEVENT
END:VCALENDAR